
BEGIN:VCALENDAR
VERSION:2.0
PRODID:-//MarkedsPartner AS//Umbraco CMS//NO
TIMEZONE-ID:Europe/Oslo
X-WR-TIMEZONE:Europe/Oslo


BEGIN:VEVENT
UID:ca6bdbde21154c4d96ee6e3bfa3e0747
URL:https://umbraco.naeringsforeningen.no/moeter/arkiv/u37-dalana-styrekurs_200423/
ORGANIZER;CN=Ola Normann:MAILTO:ola.normann@markedspartner.no
DTSTAMP:20230420T163000Z
DTSTART:20230420T163000Z
DTEND:20230420T200000Z
LAST-MODIFIED:20230421T032603Z
SUMMARY:U37 Dalane: Innføringskurs i styrearbeid
DESCRIPTION:Ønsker du å lære mer om styrearbeid? Ressursgruppen U37 Dalane og advokatfirmaet Stokkeland Advokat DA inviterer til et kort innføringskurs i styrearbeid for deg med ingen eller liten styreerfaring.
X-ALT-DESC:&#216;nsker du &#229; l&#230;re mer om styrearbeid? Ressursgruppen U37 Dalane og advokatfirmaet Stokkeland Advokat DA inviterer til et kort innf&#248;ringskurs i styrearbeid for deg med ingen eller liten styreerfaring.
LOCATION:Energi Innovation, Langholmveien 6
END:VEVENT


END:VCALENDAR



