
BEGIN:VCALENDAR
VERSION:2.0
PRODID:-//MarkedsPartner AS//Umbraco CMS//NO
TIMEZONE-ID:Europe/Oslo
X-WR-TIMEZONE:Europe/Oslo


BEGIN:VEVENT
UID:b78712af9a8246dbb6a5d3823b09ac2b
URL:https://umbraco.naeringsforeningen.no/moeter/arkiv/u37-afterwork_300524/
ORGANIZER;CN=Ola Normann:MAILTO:ola.normann@markedspartner.no
DTSTAMP:20240530T170000Z
DTSTART:20240530T170000Z
DTEND:20240530T200000Z
LAST-MODIFIED:20240603T061417Z
SUMMARY:U37 Afterwork
DESCRIPTION:Ung og keen på å utvide ditt nettverk? Vi inviterer til en uformell møtearena for unge profesjonelle.
X-ALT-DESC:Ung og keen p&#229; &#229; utvide ditt nettverk? Vi inviterer til en uformell m&#248;tearena for unge profesjonelle.
LOCATION:Vingtor Arbeidsbar
END:VEVENT


END:VCALENDAR



