
BEGIN:VCALENDAR
VERSION:2.0
PRODID:-//MarkedsPartner AS//Umbraco CMS//NO
TIMEZONE-ID:Europe/Oslo
X-WR-TIMEZONE:Europe/Oslo


BEGIN:VEVENT
UID:6dfd5825837441fe8d6bd6897cd5e153
URL:https://umbraco.naeringsforeningen.no/moeter/arkiv/u37-afterwork_261023/
ORGANIZER;CN=Ola Normann:MAILTO:ola.normann@markedspartner.no
DTSTAMP:20231026T170000Z
DTSTART:20231026T170000Z
DTEND:20231026T200000Z
LAST-MODIFIED:20231030T075950Z
SUMMARY:U37 Afterwork
DESCRIPTION:Kom og møt andre unge i næringslivet på en lavterskel afterwork på Stavanger camping. Dette er den perfekte arena til å utvikle ditt profesjonelle nettverk!
X-ALT-DESC:Kom og m&#248;t andre unge i n&#230;ringslivet p&#229; en lavterskel afterwork p&#229; Stavanger camping. Dette er den perfekte arena til &#229; utvikle ditt profesjonelle nettverk!
LOCATION:Stavanger Camping
END:VEVENT


END:VCALENDAR



