
BEGIN:VCALENDAR
VERSION:2.0
PRODID:-//MarkedsPartner AS//Umbraco CMS//NO
TIMEZONE-ID:Europe/Oslo
X-WR-TIMEZONE:Europe/Oslo


BEGIN:VEVENT
UID:4f771ae6c8a143569f6c94d87367f540
URL:https://umbraco.naeringsforeningen.no/moeter/arkiv/u37-afterwork_150224/
ORGANIZER;CN=Ola Normann:MAILTO:ola.normann@markedspartner.no
DTSTAMP:20240215T180000Z
DTSTART:20240215T180000Z
DTEND:20240215T210000Z
LAST-MODIFIED:20240216T081416Z
SUMMARY:U37 Afterwork x Innoasis
DESCRIPTION:Young and eager to expand your network? We invite you to an informal meeting arena for young professionals. This time we will dive into the innovation environment in the region.
X-ALT-DESC:Young and eager to expand your network? We invite you to an informal meeting arena for young professionals. This time we will dive into the innovation environment in the region.
LOCATION:Innoasis
END:VEVENT


END:VCALENDAR



