
BEGIN:VCALENDAR
VERSION:2.0
PRODID:-//MarkedsPartner AS//Umbraco CMS//NO
TIMEZONE-ID:Europe/Oslo
X-WR-TIMEZONE:Europe/Oslo


BEGIN:VEVENT
UID:760e5a72b0e14cf6b3402a694a9b66d4
URL:https://umbraco.naeringsforeningen.no/moeter/arkiv/u37-afterwork_051124/
ORGANIZER;CN=Ola Normann:MAILTO:ola.normann@markedspartner.no
DTSTAMP:20241105T163000Z
DTSTART:20241105T163000Z
DTEND:20241105T193000Z
LAST-MODIFIED:20241106T150537Z
SUMMARY:U37: 1 minute, 1 slide
DESCRIPTION:Pizza og pitch. Vi gir deg en unik mulighet til å presentere deg og din bedrift, samtidig som du blir kjent med en haug med andre bedrifter. Du har ett minutt og en PowerPoint-slide til å kjøre din elevator pitch.
X-ALT-DESC:Pizza og pitch. Vi gir deg en unik mulighet til &#229; presentere deg og din bedrift, samtidig som du blir kjent med en haug med andre bedrifter. Du har ett minutt og en PowerPoint-slide til &#229; kj&#248;re din elevator pitch.
LOCATION:Vestre Svanholmen 4, 4313 Sandnes
END:VEVENT


END:VCALENDAR



