
BEGIN:VCALENDAR
VERSION:2.0
PRODID:-//MarkedsPartner AS//Umbraco CMS//NO
TIMEZONE-ID:Europe/Oslo
X-WR-TIMEZONE:Europe/Oslo


BEGIN:VEVENT
UID:9ac264f2a6414fabaa6fba1d780e677d
URL:https://umbraco.naeringsforeningen.no/moeter/arkiv/u37-afterwork_010623/
ORGANIZER;CN=Ola Normann:MAILTO:ola.normann@markedspartner.no
DTSTAMP:20230601T163000Z
DTSTART:20230601T163000Z
DTEND:20230601T203000Z
LAST-MODIFIED:20230602T082459Z
SUMMARY:U37 Sommerfest
DESCRIPTION:Savner du en møteplass for unge i næringslivet? Da har du kommet på rett plass. ONS Young og U37 inviterer deg til sommerfest.
X-ALT-DESC:Savner du en m&#248;teplass for unge i n&#230;ringslivet? Da har du kommet p&#229; rett plass. ONS Young og U37 inviterer deg til sommerfest.
LOCATION:Ostehuset &#216;st
END:VEVENT


END:VCALENDAR



