
BEGIN:VCALENDAR
VERSION:2.0
PRODID:-//MarkedsPartner AS//Umbraco CMS//NO
TIMEZONE-ID:Europe/Oslo
X-WR-TIMEZONE:Europe/Oslo


BEGIN:VEVENT
UID:4151ce920f174883a4a0e6505b484fb6
URL:https://umbraco.naeringsforeningen.no/moeter/arkiv/u37-afterwork/
ORGANIZER;CN=Ola Normann:MAILTO:ola.normann@markedspartner.no
DTSTAMP:20250219T163000Z
DTSTART:20250219T163000Z
DTEND:20250219T193000Z
LAST-MODIFIED:20250219T211153Z
SUMMARY:U37: 1 minute, 1 slide
DESCRIPTION:Pizza og pitch. Vi gir deg en unik mulighet til å presentere deg og din bedrift, samtidig som du blir kjent med en haug med andre bedrifter. Du har ett minutt og en PowerPoint-slide til å kjøre din elevator pitch.
X-ALT-DESC:Pizza og pitch. Vi gir deg en unik mulighet til &#229; presentere deg og din bedrift, samtidig som du blir kjent med en haug med andre bedrifter. Du har ett minutt og en PowerPoint-slide til &#229; kj&#248;re din elevator pitch.
LOCATION:Vestre Svanholmen 4, 4313 Sandnes
END:VEVENT


END:VCALENDAR



