
BEGIN:VCALENDAR
VERSION:2.0
PRODID:-//MarkedsPartner AS//Umbraco CMS//NO
TIMEZONE-ID:Europe/Oslo
X-WR-TIMEZONE:Europe/Oslo


BEGIN:VEVENT
UID:19f82cf7f40043d38caeffbe376f3adc
URL:https://umbraco.naeringsforeningen.no/moeter/arkiv/u37-afterwork-jaeren_211124/
ORGANIZER;CN=Ola Normann:MAILTO:ola.normann@markedspartner.no
DTSTAMP:20241121T163000Z
DTSTART:20241121T163000Z
DTEND:20241121T213000Z
LAST-MODIFIED:20241122T113243Z
SUMMARY:U37 Førjulstreff Jæren 
DESCRIPTION:I forkant av årets «Treffpunkt Jæren: Førjulstreff i Hvelvet» inviterer U37 på Jæren alle unge profesjonelle til et eget opplegg. Syns du (som mange andre) at næringstreff kan være litt overveldende å tre inn på alene? U37 ønsker å gjøre terskelen lav for å delta og å engasjere seg. Dette er et treffpunkt for hele næringslivet – også de unge og fremadstormende.
X-ALT-DESC:I forkant av &#229;rets &#171;Treffpunkt J&#230;ren: F&#248;rjulstreff i Hvelvet&#187; inviterer U37 p&#229; J&#230;ren alle unge profesjonelle til et eget opplegg. Syns du (som mange andre) at n&#230;ringstreff kan v&#230;re litt overveldende &#229; tre inn p&#229; alene? U37 &#248;nsker &#229; gj&#248;re terskelen lav for &#229; delta og &#229; engasjere seg. Dette er et treffpunkt for hele n&#230;ringslivet – ogs&#229; de unge og fremadstormende.
LOCATION:Hvelvet, Kulturbanken
END:VEVENT


END:VCALENDAR



