
BEGIN:VCALENDAR
VERSION:2.0
PRODID:-//MarkedsPartner AS//Umbraco CMS//NO
TIMEZONE-ID:Europe/Oslo
X-WR-TIMEZONE:Europe/Oslo


BEGIN:VEVENT
UID:534306a8d72b43a1ac524db39f385c62
URL:https://umbraco.naeringsforeningen.no/moeter/arkiv/u37-afterwork-jaeren/
ORGANIZER;CN=Ola Normann:MAILTO:ola.normann@markedspartner.no
DTSTAMP:20250508T160000Z
DTSTART:20250508T160000Z
DTEND:20250508T190000Z
LAST-MODIFIED:20250509T070017Z
SUMMARY:U37 Afterwork Jæren
DESCRIPTION:Er du ung og keen på å utvide nettverket ditt? Vi inviterer til en uformell møtearena for unge profesjonelle jærbuer på Bryne Kro & Hotell. Denne gangen kombinerer vi nettverksbygging med en runde på hotellets egen 9-hulls «Pitch & Putt»-golfbane.
X-ALT-DESC:Er du ung og keen p&#229; &#229; utvide nettverket ditt? Vi inviterer til en uformell m&#248;tearena for unge profesjonelle j&#230;rbuer p&#229; Bryne Kro &amp; Hotell. Denne gangen kombinerer vi nettverksbygging med en runde p&#229; hotellets egen 9-hulls &#171;Pitch &amp; Putt&#187;-golfbane.
LOCATION:Bryne Kro &amp; Hotell
END:VEVENT


END:VCALENDAR



