
BEGIN:VCALENDAR
VERSION:2.0
PRODID:-//MarkedsPartner AS//Umbraco CMS//NO
TIMEZONE-ID:Europe/Oslo
X-WR-TIMEZONE:Europe/Oslo


BEGIN:VEVENT
UID:7d4eac9c41a947ce887c5961ba228aca
URL:https://umbraco.naeringsforeningen.no/moeter/arkiv/u37-afterwork-1/
ORGANIZER;CN=Ola Normann:MAILTO:ola.normann@markedspartner.no
DTSTAMP:20250605T163000Z
DTSTART:20250605T163000Z
DTEND:20250605T200000Z
LAST-MODIFIED:20250606T113747Z
SUMMARY:U37 Sommerfest
DESCRIPTION:Hvordan ser Stavanger-regionen ut i 2040, og hvilken rolle spiller vi i å forme den? Denne sommerkvelden samler vi unge politikere og unge profesjonelle for å diskutere framtiden, bygge relasjoner og feire engasjementet som driver regionen fremover.
X-ALT-DESC:Hvordan ser Stavanger-regionen ut i 2040, og hvilken rolle spiller vi i &#229; forme den? Denne sommerkvelden samler vi unge politikere og unge profesjonelle for &#229; diskutere framtiden, bygge relasjoner og feire engasjementet som driver regionen fremover.
LOCATION:Ostehuset &#216;st
END:VEVENT


END:VCALENDAR



