
BEGIN:VCALENDAR
VERSION:2.0
PRODID:-//MarkedsPartner AS//Umbraco CMS//NO
TIMEZONE-ID:Europe/Oslo
X-WR-TIMEZONE:Europe/Oslo


BEGIN:VEVENT
UID:69c3593c5821404eb53b8c0ce2185706
URL:https://umbraco.naeringsforeningen.no/moeter/arkiv/tverrfaglig-team-160323/
ORGANIZER;CN=Ola Normann:MAILTO:ola.normann@markedspartner.no
DTSTAMP:20230316T073000Z
DTSTART:20230316T073000Z
DTEND:20230316T103000Z
LAST-MODIFIED:20230317T011954Z
SUMMARY:Bli en ekspert på samarbeid 
DESCRIPTION:I dette møtet får du nyttig verktøy til hvordan du og dine kollegaer kan jobbe mer effektivt i team for å løse ulike problemstillinger og utfordringer.
X-ALT-DESC:I dette m&#248;tet f&#229;r du nyttig verkt&#248;y til hvordan du og dine kollegaer kan jobbe mer effektivt i team for &#229; l&#248;se ulike problemstillinger og utfordringer.
LOCATION:Rosenkildehuset
END:VEVENT


END:VCALENDAR



