
BEGIN:VCALENDAR
VERSION:2.0
PRODID:-//MarkedsPartner AS//Umbraco CMS//NO
TIMEZONE-ID:Europe/Oslo
X-WR-TIMEZONE:Europe/Oslo


BEGIN:VEVENT
UID:a76096022bc041d7b1a34e63ab5f8a5d
URL:https://umbraco.naeringsforeningen.no/moeter/arkiv/tv-sending310122/
ORGANIZER;CN=Ola Normann:MAILTO:ola.normann@markedspartner.no
DTSTAMP:20220131T080000Z
DTSTART:20220131T080000Z
DTEND:20220131T082000Z
LAST-MODIFIED:20221031T122831Z
SUMMARY:TV: Go´morgen næringslivet
DESCRIPTION:Easee har vokst i rekordfart. I år skal de ansette 400 nye. I dagens sending har vi med oss kommunikasjonssjef Cecilie Våge. Vi får også besøk av Øyvind Kristian Tendenes, administrerende direktør i Studio Oker – som har laget profilen til et nytt kinesisk bilmerke.
X-ALT-DESC:Easee har vokst i rekordfart. I &#229;r skal de ansette 400 nye. I dagens sending har vi med oss kommunikasjonssjef Cecilie V&#229;ge. Vi f&#229;r ogs&#229; bes&#248;k av &#216;yvind Kristian Tendenes, administrerende direkt&#248;r i Studio Oker – som har laget profilen til et nytt kinesisk bilmerke.
LOCATION:Facebook Live/Linkedin Live
END:VEVENT


END:VCALENDAR



