
BEGIN:VCALENDAR
VERSION:2.0
PRODID:-//MarkedsPartner AS//Umbraco CMS//NO
TIMEZONE-ID:Europe/Oslo
X-WR-TIMEZONE:Europe/Oslo


BEGIN:VEVENT
UID:384cb443647d4504bf9ca52d8489809b
URL:https://umbraco.naeringsforeningen.no/moeter/arkiv/tv-sending290422/
ORGANIZER;CN=Ola Normann:MAILTO:ola.normann@markedspartner.no
DTSTAMP:20220429T070000Z
DTSTART:20220429T070000Z
DTEND:20220429T072000Z
LAST-MODIFIED:20221031T122304Z
SUMMARY:TV: Go´ helg næringslivet
DESCRIPTION:Ryfylke merker Ryfast-effekten. Vi har med oss Strand-ordfører Irene Heng Lauvsnes i denne sendingen. Vi har også snakket med politisk kommentator Trond Birkedal om hvorfor såpass mange gir seg i politikken.
X-ALT-DESC:Ryfylke merker Ryfast-effekten. Vi har med oss Strand-ordf&#248;rer Irene Heng Lauvsnes i denne sendingen. Vi har ogs&#229; snakket med politisk kommentator Trond Birkedal om hvorfor s&#229;pass mange gir seg i politikken.
LOCATION:Facebook Live/Linkedin Live
END:VEVENT


END:VCALENDAR



