
BEGIN:VCALENDAR
VERSION:2.0
PRODID:-//MarkedsPartner AS//Umbraco CMS//NO
TIMEZONE-ID:Europe/Oslo
X-WR-TIMEZONE:Europe/Oslo


BEGIN:VEVENT
UID:da4145d8d8874199adaacd7770c0ec76
URL:https://umbraco.naeringsforeningen.no/moeter/arkiv/tv-sending250222/
ORGANIZER;CN=Ola Normann:MAILTO:ola.normann@markedspartner.no
DTSTAMP:20220225T080000Z
DTSTART:20220225T080000Z
DTEND:20220225T082000Z
LAST-MODIFIED:20221031T122757Z
SUMMARY:TV: Go´ helg næringslivet
DESCRIPTION:Anette Sigmundstad og Muriel M K Bruchhage er gjest i vår sending, der tema er nye flyruter og utenlandske arbeidstakere som kommer til regionen. I tillegg tar vi temperaturen i Sirdal før helgens vinterferie og har med oss Merete Liland derfra.
X-ALT-DESC:Anette Sigmundstad og Muriel M K Bruchhage er gjest i v&#229;r sending, der tema er nye flyruter og utenlandske arbeidstakere som kommer til regionen. I tillegg tar vi temperaturen i Sirdal f&#248;r helgens vinterferie og har med oss Merete Liland derfra.
LOCATION:Facebook Live/Linkedin Live
END:VEVENT


END:VCALENDAR



