
BEGIN:VCALENDAR
VERSION:2.0
PRODID:-//MarkedsPartner AS//Umbraco CMS//NO
TIMEZONE-ID:Europe/Oslo
X-WR-TIMEZONE:Europe/Oslo


BEGIN:VEVENT
UID:a961073c078d407baffa6bd2cd1971ab
URL:https://umbraco.naeringsforeningen.no/moeter/arkiv/tv-sending220422/
ORGANIZER;CN=Ola Normann:MAILTO:ola.normann@markedspartner.no
DTSTAMP:20220422T070000Z
DTSTART:20220422T070000Z
DTEND:20220422T072000Z
LAST-MODIFIED:20221031T122227Z
SUMMARY:TV: Go´ helg næringslivet
DESCRIPTION:Viking møter Bodø/Glimt igjen på søndag, denne gangen hjemme – med nytt abonnementskonsept og våren i anmarsj. Vi snakker med Eirik Bjørnø, administrerende direktør i Viking. Vi har også med oss Ulf Rosenberg og tar for oss den oppdaterte energimeldingen og hva forslagene kan få av betydning for Stavanger-regionen.
X-ALT-DESC:Viking m&#248;ter Bod&#248;/Glimt igjen p&#229; s&#248;ndag, denne gangen hjemme – med nytt abonnementskonsept og v&#229;ren i anmarsj. Vi snakker med Eirik Bj&#248;rn&#248;, administrerende direkt&#248;r i Viking. Vi har ogs&#229; med oss Ulf Rosenberg og tar for oss den oppdaterte energimeldingen og hva forslagene kan f&#229; av betydning for Stavanger-regionen.
LOCATION:Facebook Live/Linkedin Live
END:VEVENT


END:VCALENDAR



