
BEGIN:VCALENDAR
VERSION:2.0
PRODID:-//MarkedsPartner AS//Umbraco CMS//NO
TIMEZONE-ID:Europe/Oslo
X-WR-TIMEZONE:Europe/Oslo


BEGIN:VEVENT
UID:5cb548df6a3b4ae8936537af276185b1
URL:https://umbraco.naeringsforeningen.no/moeter/arkiv/tv-sending200522/
ORGANIZER;CN=Ola Normann:MAILTO:ola.normann@markedspartner.no
DTSTAMP:20220520T070000Z
DTSTART:20220520T070000Z
DTEND:20220520T072000Z
LAST-MODIFIED:20221031T121528Z
SUMMARY:TV: Go´ helg næringslivet
DESCRIPTION:Bedriftene i Rogaland mangler over 6000 ansatte. I denne sendingen får vi besøk av seniorrådgiver Gustav Svane fra NAV og Lene Andrea Knutsen, daglig leder i IT-selskapet PIL. Det er særlig bygg og anlegg og IT-branjsen som sliter med å få fatt i nok folk.
X-ALT-DESC:Bedriftene i Rogaland mangler over 6000 ansatte. I denne sendingen f&#229;r vi bes&#248;k av seniorr&#229;dgiver Gustav Svane fra NAV og Lene Andrea Knutsen, daglig leder i IT-selskapet PIL. Det er s&#230;rlig bygg og anlegg og IT-branjsen som sliter med &#229; f&#229; fatt i nok folk.
LOCATION:Facebook Live/Linkedin Live
END:VEVENT


END:VCALENDAR



