
BEGIN:VCALENDAR
VERSION:2.0
PRODID:-//MarkedsPartner AS//Umbraco CMS//NO
TIMEZONE-ID:Europe/Oslo
X-WR-TIMEZONE:Europe/Oslo


BEGIN:VEVENT
UID:58a30f64d86a4bb2aa0295cdbf092017
URL:https://umbraco.naeringsforeningen.no/moeter/arkiv/tv-sending180222/
ORGANIZER;CN=Ola Normann:MAILTO:ola.normann@markedspartner.no
DTSTAMP:20220218T080000Z
DTSTART:20220218T080000Z
DTEND:20220218T082000Z
LAST-MODIFIED:20221031T122738Z
SUMMARY:TV: Go´ helg næringslivet
DESCRIPTION:Base Property bygger K8 – Stavangers nye høyhus, de utvikler Sandnes Helsepark og er i førersetet for de nye planene i Sverdrups gate. Daglig leder Alfred Ydstebø er vår gjest i denne sendingen. Det er også Heidi Klaveness, bygg- og eiendomssjef i Rogaland fylkeskommune – som nå skal sørge for at Fylkeshuset blir «nytt».
X-ALT-DESC:Base Property bygger K8 – Stavangers nye h&#248;yhus, de utvikler Sandnes Helsepark og er i f&#248;rersetet for de nye planene i Sverdrups gate. Daglig leder Alfred Ydsteb&#248; er v&#229;r gjest i denne sendingen. Det er ogs&#229; Heidi Klaveness, bygg- og eiendomssjef i Rogaland fylkeskommune – som n&#229; skal s&#248;rge for at Fylkeshuset blir &#171;nytt&#187;.
LOCATION:Facebook Live/Linkedin Live
END:VEVENT


END:VCALENDAR



