
BEGIN:VCALENDAR
VERSION:2.0
PRODID:-//MarkedsPartner AS//Umbraco CMS//NO
TIMEZONE-ID:Europe/Oslo
X-WR-TIMEZONE:Europe/Oslo


BEGIN:VEVENT
UID:eedb1e9d9db94adc8d8ab2bee23eb74a
URL:https://umbraco.naeringsforeningen.no/moeter/arkiv/tv-sending110322/
ORGANIZER;CN=Ola Normann:MAILTO:ola.normann@markedspartner.no
DTSTAMP:20220311T080000Z
DTSTART:20220311T080000Z
DTEND:20220311T082000Z
LAST-MODIFIED:20221031T122811Z
SUMMARY:TV: Go´ helg næringslivet
DESCRIPTION:Oljeprisen har denne uken vært over 130 dollar fatet og svinger betydelig som en konsekvens av krigen i Ukraina. Tore Guldbrandsøy fra Rystad er med oss i denne sendingen for å fortelle mer om hva som skjer. Det samme er John Sjursø fra Røde Kors og russiske Dmitry Ovsyannikov – som bor og jobber her i regionen.
X-ALT-DESC:Oljeprisen har denne uken v&#230;rt over 130 dollar fatet og svinger betydelig som en konsekvens av krigen i Ukraina. Tore Guldbrands&#248;y fra Rystad er med oss i denne sendingen for &#229; fortelle mer om hva som skjer. Det samme er John Sjurs&#248; fra R&#248;de Kors og russiske Dmitry Ovsyannikov – som bor og jobber her i regionen.
LOCATION:Facebook Live/Linkedin Live
END:VEVENT


END:VCALENDAR



