
BEGIN:VCALENDAR
VERSION:2.0
PRODID:-//MarkedsPartner AS//Umbraco CMS//NO
TIMEZONE-ID:Europe/Oslo
X-WR-TIMEZONE:Europe/Oslo


BEGIN:VEVENT
UID:cc8a5172e575408f9ac128d7a4005416
URL:https://umbraco.naeringsforeningen.no/moeter/arkiv/tv-sending110222/
ORGANIZER;CN=Ola Normann:MAILTO:ola.normann@markedspartner.no
DTSTAMP:20220211T080000Z
DTSTART:20220211T080000Z
DTEND:20220211T082000Z
LAST-MODIFIED:20221031T122927Z
SUMMARY:TV: Go´ helg næringslivet
DESCRIPTION:For første gang er det flere utlyste stillinger enn helt ledige i Rogaland. Hvordan skal vi klare å rekruttere nok folk? Fylkesdirektør i NAV, Merethe Prytz Haftorsen, er med oss. I tillegg kommer Inger Tone Ødegård, som gir oss et krasjkurs i mingling. Se vårt nye helgemagasin der vi oppsummerer uken.
X-ALT-DESC:For f&#248;rste gang er det flere utlyste stillinger enn helt ledige i Rogaland. Hvordan skal vi klare &#229; rekruttere nok folk? Fylkesdirekt&#248;r i NAV, Merethe Prytz Haftorsen, er med oss. I tillegg kommer Inger Tone &#216;deg&#229;rd, som gir oss et krasjkurs i mingling. Se v&#229;rt nye helgemagasin der vi oppsummerer uken.
LOCATION:Facebook Live/Linkedin Live
END:VEVENT


END:VCALENDAR



