
BEGIN:VCALENDAR
VERSION:2.0
PRODID:-//MarkedsPartner AS//Umbraco CMS//NO
TIMEZONE-ID:Europe/Oslo
X-WR-TIMEZONE:Europe/Oslo


BEGIN:VEVENT
UID:cbb65b259e4b47848623b7c580d852fd
URL:https://umbraco.naeringsforeningen.no/moeter/arkiv/tv-sending100622/
ORGANIZER;CN=Ola Normann:MAILTO:ola.normann@markedspartner.no
DTSTAMP:20220610T070000Z
DTSTART:20220610T070000Z
DTEND:20220610T072000Z
LAST-MODIFIED:20221031T121639Z
SUMMARY:TV: Go´ helg næringslivet
DESCRIPTION:Hvordan blir Gladmat og Blink denne sommeren – etter pandemien? I denne sendingen har vi med oss Odd Langhelle og Maren Skjelde, som forteller oss alt om hva vi har å glede oss til.
X-ALT-DESC:Hvordan blir Gladmat og Blink denne sommeren – etter pandemien? I denne sendingen har vi med oss Odd Langhelle og Maren Skjelde, som forteller oss alt om hva vi har &#229; glede oss til.
LOCATION:Facebook Live/Linkedin Live
END:VEVENT


END:VCALENDAR



