
BEGIN:VCALENDAR
VERSION:2.0
PRODID:-//MarkedsPartner AS//Umbraco CMS//NO
TIMEZONE-ID:Europe/Oslo
X-WR-TIMEZONE:Europe/Oslo


BEGIN:VEVENT
UID:d07c812f3bca4c828e9aa80120e7b2a6
URL:https://umbraco.naeringsforeningen.no/moeter/arkiv/tv-sending080422/
ORGANIZER;CN=Ola Normann:MAILTO:ola.normann@markedspartner.no
DTSTAMP:20220408T070000Z
DTSTART:20220408T070000Z
DTEND:20220408T072000Z
LAST-MODIFIED:20221031T122532Z
SUMMARY:TV: Go´ helg næringslivet
DESCRIPTION:3. mai er Lufthansa tilbake med direkterute fra Sola til Frankfurt. Vi tar en prat med Flemming Nordestgaard, Lufthansa-sjef i Norge. Vi har også med oss Eirik Jørgensen, daglig leder i nystartede Amina – den tredje billaderprodusenten i regionen.
X-ALT-DESC:3. mai er Lufthansa tilbake med direkterute fra Sola til Frankfurt. Vi tar en prat med Flemming Nordestgaard, Lufthansa-sjef i Norge. Vi har ogs&#229; med oss Eirik J&#248;rgensen, daglig leder i nystartede Amina – den tredje billaderprodusenten i regionen.
LOCATION:Facebook Live/Linkedin Live
END:VEVENT


END:VCALENDAR



