
BEGIN:VCALENDAR
VERSION:2.0
PRODID:-//MarkedsPartner AS//Umbraco CMS//NO
TIMEZONE-ID:Europe/Oslo
X-WR-TIMEZONE:Europe/Oslo


BEGIN:VEVENT
UID:4090b4a90eee405e92b1f54b7cc9f4fa
URL:https://umbraco.naeringsforeningen.no/moeter/arkiv/tv-sending061022/
ORGANIZER;CN=Ola Normann:MAILTO:ola.normann@markedspartner.no
DTSTAMP:20221006T113000Z
DTSTART:20221006T113000Z
DTEND:20221006T115000Z
LAST-MODIFIED:20221031T115818Z
SUMMARY:SE SENDINGEN: Statsbudsjettet med Vestre
DESCRIPTION:Se vår TV-sending om statsbudsjettet med næringsminister Jan Christian Vestre. I tillegg har vi med oss sjeføkonom Kyrre M. Knudsen i SpareBank 1 SR-Bank, kommunedirektør Bodil Sivertsen i Sandnes kommune og energirådgiver Ulf Rosenberg – i samtale med Harald Minge og Tormod Andreassen i Næringsforeningen.
X-ALT-DESC:Se v&#229;r TV-sending om statsbudsjettet med n&#230;ringsminister Jan Christian Vestre. I tillegg har vi med oss sjef&#248;konom Kyrre M. Knudsen i SpareBank 1 SR-Bank, kommunedirekt&#248;r Bodil Sivertsen i Sandnes kommune og energir&#229;dgiver Ulf Rosenberg – i samtale med Harald Minge og Tormod Andreassen i N&#230;ringsforeningen.
LOCATION:Facebook Live/Linkedin Live
END:VEVENT


END:VCALENDAR



