
BEGIN:VCALENDAR
VERSION:2.0
PRODID:-//MarkedsPartner AS//Umbraco CMS//NO
TIMEZONE-ID:Europe/Oslo
X-WR-TIMEZONE:Europe/Oslo


BEGIN:VEVENT
UID:ffd5209dfe0243d6a65b3ed42c3e7991
URL:https://umbraco.naeringsforeningen.no/moeter/arkiv/tv-sending060522/
ORGANIZER;CN=Ola Normann:MAILTO:ola.normann@markedspartner.no
DTSTAMP:20220506T070000Z
DTSTART:20220506T070000Z
DTEND:20220506T072000Z
LAST-MODIFIED:20221031T121426Z
SUMMARY:TV: Go´ helg næringslivet
DESCRIPTION:Øyvind Staveland og Vamp er tilbake på Rogaland teater. Ståle Økland fra Akva Group startet diskusjonen om hvorfor ikke Stavanger-regionen er mer attraktive enn vi er. Begge to er våre gjester i denne sendingen.
X-ALT-DESC:&#216;yvind Staveland og Vamp er tilbake p&#229; Rogaland teater. St&#229;le &#216;kland fra Akva Group startet diskusjonen om hvorfor ikke Stavanger-regionen er mer attraktive enn vi er. Begge to er v&#229;re gjester i denne sendingen.
LOCATION:Facebook Live/Linkedin Live
END:VEVENT


END:VCALENDAR



