
BEGIN:VCALENDAR
VERSION:2.0
PRODID:-//MarkedsPartner AS//Umbraco CMS//NO
TIMEZONE-ID:Europe/Oslo
X-WR-TIMEZONE:Europe/Oslo


BEGIN:VEVENT
UID:ae93ac84d44444c9a3c7c67f81c12b27
URL:https://umbraco.naeringsforeningen.no/moeter/arkiv/tv-sending040222/
ORGANIZER;CN=Ola Normann:MAILTO:ola.normann@markedspartner.no
DTSTAMP:20220204T080000Z
DTSTART:20220204T080000Z
DTEND:20220204T082000Z
LAST-MODIFIED:20221031T122911Z
SUMMARY:TV: Go´morgen næringslivet
DESCRIPTION:Utelivsbransjen er klare for sin første helg etter gjenåpningen denne uken, men meteren gjelder fortsatt. Vi har med oss Kristoffer Hansen, daglig leder på Cirkus. I tillegg får vi siste nytt fra Knud med D – alias Rune Bjerga. Programledere er som vanlig Elianne Strøm Topstad og Ståle Frafjord.
X-ALT-DESC:Utelivsbransjen er klare for sin f&#248;rste helg etter gjen&#229;pningen denne uken, men meteren gjelder fortsatt. Vi har med oss Kristoffer Hansen, daglig leder p&#229; Cirkus. I tillegg f&#229;r vi siste nytt fra Knud med D – alias Rune Bjerga. Programledere er som vanlig Elianne Str&#248;m Topstad og St&#229;le Frafjord.
LOCATION:Facebook Live/Linkedin Live
END:VEVENT


END:VCALENDAR



