
BEGIN:VCALENDAR
VERSION:2.0
PRODID:-//MarkedsPartner AS//Umbraco CMS//NO
TIMEZONE-ID:Europe/Oslo
X-WR-TIMEZONE:Europe/Oslo


BEGIN:VEVENT
UID:ce3d771587e04c9e9ab2b77702a828e5
URL:https://umbraco.naeringsforeningen.no/moeter/arkiv/tv-sending030622/
ORGANIZER;CN=Ola Normann:MAILTO:ola.normann@markedspartner.no
DTSTAMP:20220603T070000Z
DTSTART:20220603T070000Z
DTEND:20220603T072000Z
LAST-MODIFIED:20221031T121852Z
SUMMARY:TV: Go´ helg næringslivet
DESCRIPTION:Selvkjørende minibusser i små tunneler kan være en god idé for kollektivtransport, mener tidligere samferdselsminister Ketil Solvik-Olsen. Han er med oss i denne sendingen, sammen med Olena Hebler fra Ukrainsk forening Rogaland.
X-ALT-DESC:Selvkj&#248;rende minibusser i sm&#229; tunneler kan v&#230;re en god id&#233; for kollektivtransport, mener tidligere samferdselsminister Ketil Solvik-Olsen. Han er med oss i denne sendingen, sammen med Olena Hebler fra Ukrainsk forening Rogaland.
LOCATION:Facebook Live/Linkedin Live
END:VEVENT


END:VCALENDAR



