
BEGIN:VCALENDAR
VERSION:2.0
PRODID:-//MarkedsPartner AS//Umbraco CMS//NO
TIMEZONE-ID:Europe/Oslo
X-WR-TIMEZONE:Europe/Oslo


BEGIN:VEVENT
UID:60ee784e828e49fc8316fdde07be364b
URL:https://umbraco.naeringsforeningen.no/moeter/arkiv/tv-sending030222/
ORGANIZER;CN=Ola Normann:MAILTO:ola.normann@markedspartner.no
DTSTAMP:20220203T080000Z
DTSTART:20220203T080000Z
DTEND:20220203T082000Z
LAST-MODIFIED:20221031T122904Z
SUMMARY:TV: Go´morgen næringslivet
DESCRIPTION:Det er snart klart for finalen i Det norske måltid. Vi har med oss måltidssjefen selv, Kristin Austigard. I tillegg kommer en av finalistene, Ingrid Sandvik fra Topp Sopp. Hun har med seg produktene i studio. Bli med oss og se vår sending.
X-ALT-DESC:Det er snart klart for finalen i Det norske m&#229;ltid. Vi har med oss m&#229;ltidssjefen selv, Kristin Austigard. I tillegg kommer en av finalistene, Ingrid Sandvik fra Topp Sopp. Hun har med seg produktene i studio. Bli med oss og se v&#229;r sending.
LOCATION:Facebook Live/Linkedin Live
END:VEVENT


END:VCALENDAR



