
BEGIN:VCALENDAR
VERSION:2.0
PRODID:-//MarkedsPartner AS//Umbraco CMS//NO
TIMEZONE-ID:Europe/Oslo
X-WR-TIMEZONE:Europe/Oslo


BEGIN:VEVENT
UID:a50cbdc3da75453ba131b4c58cc1a401
URL:https://umbraco.naeringsforeningen.no/moeter/arkiv/tv-sending020222/
ORGANIZER;CN=Ola Normann:MAILTO:ola.normann@markedspartner.no
DTSTAMP:20220202T080000Z
DTSTART:20220202T080000Z
DTEND:20220202T082000Z
LAST-MODIFIED:20221031T122850Z
SUMMARY:TV: Go´morgen næringslivet
DESCRIPTION:Olje og andre fossile brensler er tema for en utstilling på Stavanger kunstmuseum. Vi får besøk av avdelingsdirektør Hanne Beate Ueland. Harald Minge i Næringsforeningen er også med oss for å kommentere de nye koronalettelsene og en restart på konferanasevåren.
X-ALT-DESC:Olje og andre fossile brensler er tema for en utstilling p&#229; Stavanger kunstmuseum. Vi f&#229;r bes&#248;k av avdelingsdirekt&#248;r Hanne Beate Ueland. Harald Minge i N&#230;ringsforeningen er ogs&#229; med oss for &#229; kommentere de nye koronalettelsene og en restart p&#229; konferanasev&#229;ren.
LOCATION:Facebook Live/Linkedin Live
END:VEVENT


END:VCALENDAR



