
BEGIN:VCALENDAR
VERSION:2.0
PRODID:-//MarkedsPartner AS//Umbraco CMS//NO
TIMEZONE-ID:Europe/Oslo
X-WR-TIMEZONE:Europe/Oslo


BEGIN:VEVENT
UID:d06f8ec92d4e4cb1ae29e9c1fb5f70d9
URL:https://umbraco.naeringsforeningen.no/moeter/arkiv/tv-sending010422/
ORGANIZER;CN=Ola Normann:MAILTO:ola.normann@markedspartner.no
DTSTAMP:20220401T070000Z
DTSTART:20220401T070000Z
DTEND:20220401T072000Z
LAST-MODIFIED:20221031T122521Z
SUMMARY:TV: Go´ helg næringslivet
DESCRIPTION:Nå er 100-listen lansert – styreportalen for Stavanger-regionen. Vi har med oss Samantha Smith Johansen, markedssjef i BikeFinder og en av styrekandidatene på listen. Vi har også besøkt Kari Gro Johanson og det nye sykehuset – og vi snakker med Næringsforeningens Inger Tone Ødegård om hva foreningen gjør for å møte Ukraina-flyktningene.
X-ALT-DESC:N&#229; er 100-listen lansert – styreportalen for Stavanger-regionen. Vi har med oss Samantha Smith Johansen, markedssjef i BikeFinder og en av styrekandidatene p&#229; listen. Vi har ogs&#229; bes&#248;kt Kari Gro Johanson og det nye sykehuset – og vi snakker med N&#230;ringsforeningens Inger Tone &#216;deg&#229;rd om hva foreningen gj&#248;r for &#229; m&#248;te Ukraina-flyktningene.
LOCATION:Facebook Live/Linkedin Live
END:VEVENT


END:VCALENDAR



