
BEGIN:VCALENDAR
VERSION:2.0
PRODID:-//MarkedsPartner AS//Umbraco CMS//NO
TIMEZONE-ID:Europe/Oslo
X-WR-TIMEZONE:Europe/Oslo


BEGIN:VEVENT
UID:fde434f16460437e93cc041cf0441f09
URL:https://umbraco.naeringsforeningen.no/moeter/arkiv/tv-sending010222/
ORGANIZER;CN=Ola Normann:MAILTO:ola.normann@markedspartner.no
DTSTAMP:20220201T080000Z
DTSTART:20220201T080000Z
DTEND:20220201T082000Z
LAST-MODIFIED:20221031T122837Z
SUMMARY:TV: Go´morgen næringslivet
DESCRIPTION:Vi ser alle fram til regjeringens pressekonferanse i dag og varslede lettelser i tiltakene. Noen som er ekstra spente er teatersjef Glenn André Kaada og teaterdirektør Ellen Math Henrichsen ved Rogaland Teater. De er våre gjester i dag, sammen med Knud med D, alias Rune Bjerga.
X-ALT-DESC:Vi ser alle fram til regjeringens pressekonferanse i dag og varslede lettelser i tiltakene. Noen som er ekstra spente er teatersjef Glenn Andr&#233; Kaada og teaterdirekt&#248;r Ellen Math Henrichsen ved Rogaland Teater. De er v&#229;re gjester i dag, sammen med Knud med D, alias Rune Bjerga.
LOCATION:Facebook Live/Linkedin Live
END:VEVENT


END:VCALENDAR



