
BEGIN:VCALENDAR
VERSION:2.0
PRODID:-//MarkedsPartner AS//Umbraco CMS//NO
TIMEZONE-ID:Europe/Oslo
X-WR-TIMEZONE:Europe/Oslo


BEGIN:VEVENT
UID:47ea993bbfc0467e9718f3dfd5ed06bf
URL:https://umbraco.naeringsforeningen.no/moeter/arkiv/tv-sending-tv-aksjonen-og-naeringslivet/
ORGANIZER;CN=Ola Normann:MAILTO:ola.normann@markedspartner.no
DTSTAMP:20201012T070000Z
DTSTART:20201012T070000Z
DTEND:20201012T071100Z
LAST-MODIFIED:20221031T114048Z
SUMMARY:TV-sending: TV-aksjonen og næringslivet
DESCRIPTION:Neste søndag, 18. oktober, er det klart for TV-aksjonen, der pengene går til kampen mot plast i havet. I mandagens TV-sending snakker vi med Jorunn B. Eia i TV-aksjonen Rogaland om næringslivets ringeaksjon på onsdag, koronautfordringene og hvordan du kan bidra. Blir Rogaland beste fylke igjen?
X-ALT-DESC:Neste s&#248;ndag, 18. oktober, er det klart for TV-aksjonen, der pengene g&#229;r til kampen mot plast i havet. I mandagens TV-sending snakker vi med Jorunn B. Eia i TV-aksjonen Rogaland om n&#230;ringslivets ringeaksjon p&#229; onsdag, koronautfordringene og hvordan du kan bidra. Blir Rogaland beste fylke igjen?
LOCATION:Facebook Live
END:VEVENT


END:VCALENDAR



