
BEGIN:VCALENDAR
VERSION:2.0
PRODID:-//MarkedsPartner AS//Umbraco CMS//NO
TIMEZONE-ID:Europe/Oslo
X-WR-TIMEZONE:Europe/Oslo


BEGIN:VEVENT
UID:f510edf0e8bd423882b87661ea4b9bac
URL:https://umbraco.naeringsforeningen.no/moeter/arkiv/tv-sending-tv-aksjonen-og-naeringslivet-1/
ORGANIZER;CN=Ola Normann:MAILTO:ola.normann@markedspartner.no
DTSTAMP:20201019T070000Z
DTSTART:20201019T070000Z
DTEND:20201019T071000Z
LAST-MODIFIED:20221031T114256Z
SUMMARY:TV-sending: Rødne er offensive i et tøft marked
DESCRIPTION:Heller ikke for Rødne ble året som planlagt. Reiselivsbransjen blør, og usikkerheten – den er fortsatt stor. Men Rødne er likevel offensive. Vi tar praten med Lars Rødne.
X-ALT-DESC:Heller ikke for R&#248;dne ble &#229;ret som planlagt. Reiselivsbransjen bl&#248;r, og usikkerheten – den er fortsatt stor. Men R&#248;dne er likevel offensive. Vi tar praten med Lars R&#248;dne.
LOCATION:Facebook Live
END:VEVENT


END:VCALENDAR



