
BEGIN:VCALENDAR
VERSION:2.0
PRODID:-//MarkedsPartner AS//Umbraco CMS//NO
TIMEZONE-ID:Europe/Oslo
X-WR-TIMEZONE:Europe/Oslo


BEGIN:VEVENT
UID:a28b106f64174d539e90b069f8f7a88c
URL:https://umbraco.naeringsforeningen.no/moeter/arkiv/tv-sending-statsbudsjettet-2020/
ORGANIZER;CN=Ola Normann:MAILTO:ola.normann@markedspartner.no
DTSTAMP:20201007T130000Z
DTSTART:20201007T130000Z
DTEND:20201007T132000Z
LAST-MODIFIED:20221031T114046Z
SUMMARY:Det du må vite om statsbudsjettet
DESCRIPTION:Onsdag legges statsbudsjettet frem for Stortinget. Hvilken betydning får det for Rogaland? Sjeføkonom Kyrre M. Knudsen i Sparebank1 SR-Bank og næringspolitisk leder i Næringsforeningen, Tormod Andreassen, gir deg svarene i vår TV-sending onsdag ettermiddag.
X-ALT-DESC:Onsdag legges statsbudsjettet frem for Stortinget. Hvilken betydning f&#229;r det for Rogaland? Sjef&#248;konom Kyrre M. Knudsen i Sparebank1 SR-Bank og n&#230;ringspolitisk leder i N&#230;ringsforeningen, Tormod Andreassen, gir deg svarene i v&#229;r TV-sending onsdag ettermiddag.
LOCATION:Facebook Live
END:VEVENT


END:VCALENDAR



