
BEGIN:VCALENDAR
VERSION:2.0
PRODID:-//MarkedsPartner AS//Umbraco CMS//NO
TIMEZONE-ID:Europe/Oslo
X-WR-TIMEZONE:Europe/Oslo


BEGIN:VEVENT
UID:e40f5f3e0b734f00a3f904b26b4d8016
URL:https://umbraco.naeringsforeningen.no/moeter/arkiv/tv-sending-9-juni/
ORGANIZER;CN=Ola Normann:MAILTO:ola.normann@markedspartner.no
DTSTAMP:20200609T070000Z
DTSTART:20200609T070000Z
DTEND:20200609T073000Z
LAST-MODIFIED:20221031T121340Z
SUMMARY:TV: Sending 9. juni
DESCRIPTION:Nye muligheter er tema for tirsdagens sending. En oversikt i den nyeste utgaven av Rosenkilden viser at det er mulig å skape 30.000 nye arbeidsplasser i regionen!
X-ALT-DESC:Nye muligheter er tema for tirsdagens sending. En oversikt i den nyeste utgaven av Rosenkilden viser at det er mulig &#229; skape 30.000 nye arbeidsplasser i regionen!
LOCATION:Facebook Live
END:VEVENT


END:VCALENDAR



