
BEGIN:VCALENDAR
VERSION:2.0
PRODID:-//MarkedsPartner AS//Umbraco CMS//NO
TIMEZONE-ID:Europe/Oslo
X-WR-TIMEZONE:Europe/Oslo


BEGIN:VEVENT
UID:fd96724d81654dab905285f363e6dcbd
URL:https://umbraco.naeringsforeningen.no/moeter/arkiv/tv-sending-8-mai/
ORGANIZER;CN=Ola Normann:MAILTO:ola.normann@markedspartner.no
DTSTAMP:20200508T070000Z
DTSTART:20200508T070000Z
DTEND:20200508T073000Z
LAST-MODIFIED:20221031T120948Z
SUMMARY:TV: Sending 8. mai
DESCRIPTION:De har ledet regionen gjennom kriser tidligere og har fortsatt sine klare og tydelige meninger! Møt Jostein Soland, Gunnar Berge, Hallvard Ween, Steinar Olsen og Roald Bergsaker.
X-ALT-DESC:De har ledet regionen gjennom kriser tidligere og har fortsatt sine klare og tydelige meninger! M&#248;t Jostein Soland, Gunnar Berge, Hallvard Ween, Steinar Olsen og Roald Bergsaker.
LOCATION:Facebook Live
END:VEVENT


END:VCALENDAR



