
BEGIN:VCALENDAR
VERSION:2.0
PRODID:-//MarkedsPartner AS//Umbraco CMS//NO
TIMEZONE-ID:Europe/Oslo
X-WR-TIMEZONE:Europe/Oslo


BEGIN:VEVENT
UID:6ae2e4b3c5fd46a49a46ffe01e41821f
URL:https://umbraco.naeringsforeningen.no/moeter/arkiv/tv-sending-7-mai/
ORGANIZER;CN=Ola Normann:MAILTO:ola.normann@markedspartner.no
DTSTAMP:20200507T070000Z
DTSTART:20200507T070000Z
DTEND:20200507T073000Z
LAST-MODIFIED:20221031T120928Z
SUMMARY:TV: Sending 7. mai
DESCRIPTION:Nordsjørittet 2020 måtte avlyses, og nå planlegges det for 2021. Vi får besøk av daglig leder Siri Ommedal.
X-ALT-DESC:Nordsj&#248;rittet 2020 m&#229;tte avlyses, og n&#229; planlegges det for 2021. Vi f&#229;r bes&#248;k av daglig leder Siri Ommedal.
LOCATION:Facebook Live
END:VEVENT


END:VCALENDAR



