
BEGIN:VCALENDAR
VERSION:2.0
PRODID:-//MarkedsPartner AS//Umbraco CMS//NO
TIMEZONE-ID:Europe/Oslo
X-WR-TIMEZONE:Europe/Oslo


BEGIN:VEVENT
UID:4caab970eb354d6d928f6d29f92c6d09
URL:https://umbraco.naeringsforeningen.no/moeter/arkiv/tv-sending-6-mai/
ORGANIZER;CN=Ola Normann:MAILTO:ola.normann@markedspartner.no
DTSTAMP:20200506T070000Z
DTSTART:20200506T070000Z
DTEND:20200506T073000Z
LAST-MODIFIED:20221031T120907Z
SUMMARY:TV: Sending 6. mai
DESCRIPTION:Onsdag får vi besøk av Sjur Svaboe, Toril Nag, Anne Kristine Rugland og Dag Halvorsen.
X-ALT-DESC:Onsdag f&#229;r vi bes&#248;k av Sjur Svaboe, Toril Nag, Anne Kristine Rugland og Dag Halvorsen.
LOCATION:Facebook Live
END:VEVENT


END:VCALENDAR



