
BEGIN:VCALENDAR
VERSION:2.0
PRODID:-//MarkedsPartner AS//Umbraco CMS//NO
TIMEZONE-ID:Europe/Oslo
X-WR-TIMEZONE:Europe/Oslo


BEGIN:VEVENT
UID:80622bc1d71a4f17a579d3666db4e8b6
URL:https://umbraco.naeringsforeningen.no/moeter/arkiv/tv-sending-5-mai/
ORGANIZER;CN=Ola Normann:MAILTO:ola.normann@markedspartner.no
DTSTAMP:20200505T070000Z
DTSTART:20200505T070000Z
DTEND:20200505T073000Z
LAST-MODIFIED:20221031T120853Z
SUMMARY:TV: Sending 5. mai
DESCRIPTION:En av høstens store og planlagte premierer er Blyge Harry - en musikal basert på musikken til Stavangerensemblet. Pål Mangor Kvammen er i full gang med planleggingen, og kommer i vår sending.
X-ALT-DESC:En av h&#248;stens store og planlagte premierer er Blyge Harry - en musikal basert p&#229; musikken til Stavangerensemblet. P&#229;l Mangor Kvammen er i full gang med planleggingen, og kommer i v&#229;r sending.
LOCATION:Facebook Live
END:VEVENT


END:VCALENDAR



