
BEGIN:VCALENDAR
VERSION:2.0
PRODID:-//MarkedsPartner AS//Umbraco CMS//NO
TIMEZONE-ID:Europe/Oslo
X-WR-TIMEZONE:Europe/Oslo


BEGIN:VEVENT
UID:1332c9a8e112484a8546d946902f8b8a
URL:https://umbraco.naeringsforeningen.no/moeter/arkiv/tv-sending-5-juni/
ORGANIZER;CN=Ola Normann:MAILTO:ola.normann@markedspartner.no
DTSTAMP:20200605T070000Z
DTSTART:20200605T070000Z
DTEND:20200605T073000Z
LAST-MODIFIED:20221031T121326Z
SUMMARY:TV: Sending 5. juni
DESCRIPTION:Hvordan har krisepakkene fungert for næringslivet? Tone Grindland fra NHO Rogaland kommer i studio fredag.
X-ALT-DESC:Hvordan har krisepakkene fungert for n&#230;ringslivet? Tone Grindland fra NHO Rogaland kommer i studio fredag.
LOCATION:Facebook Live
END:VEVENT


END:VCALENDAR



