
BEGIN:VCALENDAR
VERSION:2.0
PRODID:-//MarkedsPartner AS//Umbraco CMS//NO
TIMEZONE-ID:Europe/Oslo
X-WR-TIMEZONE:Europe/Oslo


BEGIN:VEVENT
UID:48402917e0834b3fa908222e2be8b06b
URL:https://umbraco.naeringsforeningen.no/moeter/arkiv/tv-sending-4-mai/
ORGANIZER;CN=Ola Normann:MAILTO:ola.normann@markedspartner.no
DTSTAMP:20200504T070000Z
DTSTART:20200504T070000Z
DTEND:20200504T073000Z
LAST-MODIFIED:20221031T120841Z
SUMMARY:TV: Sending 4. mai
DESCRIPTION:Tirsdag starter klimainvesteringsmøtet Driva i regi av Nysnø. I år blir det en digital versjon. Hvordan blir dette? Vi får besøk av Siri Kalvig. I tillegg kommer Torstein Nielsen, Morten Warland og Kristine Berg Marhaug.
X-ALT-DESC:Tirsdag starter klimainvesteringsm&#248;tet Driva i regi av Nysn&#248;. I &#229;r blir det en digital versjon. Hvordan blir dette? Vi f&#229;r bes&#248;k av Siri Kalvig. I tillegg kommer Torstein Nielsen, Morten Warland og Kristine Berg Marhaug.
LOCATION:Facebook Live
END:VEVENT


END:VCALENDAR



