
BEGIN:VCALENDAR
VERSION:2.0
PRODID:-//MarkedsPartner AS//Umbraco CMS//NO
TIMEZONE-ID:Europe/Oslo
X-WR-TIMEZONE:Europe/Oslo


BEGIN:VEVENT
UID:3cdfd57d4f3646049511218ec6b155bc
URL:https://umbraco.naeringsforeningen.no/moeter/arkiv/tv-sending-310521/
ORGANIZER;CN=Ola Normann:MAILTO:ola.normann@markedspartner.no
DTSTAMP:20210531T070000Z
DTSTART:20210531T070000Z
DTEND:20210531T072000Z
LAST-MODIFIED:20221031T121830Z
SUMMARY:Slik planlegges Gladmat og Blink i år
DESCRIPTION:Det blir både Gladmat og Blinkfestival også i år. Hvordan de gjennomføres, hva som planlegges og hvilke konsekvenser koronapandemien får for festivalene, det får du vite mer om i denne sendingen. Maren Skjelde og Odd Langhelle er våre gjester.
X-ALT-DESC:Det blir b&#229;de Gladmat og Blinkfestival ogs&#229; i &#229;r. Hvordan de gjennomf&#248;res, hva som planlegges og hvilke konsekvenser koronapandemien f&#229;r for festivalene, det f&#229;r du vite mer om i denne sendingen. Maren Skjelde og Odd Langhelle er v&#229;re gjester.
LOCATION:Facebook Live
END:VEVENT


END:VCALENDAR



