
BEGIN:VCALENDAR
VERSION:2.0
PRODID:-//MarkedsPartner AS//Umbraco CMS//NO
TIMEZONE-ID:Europe/Oslo
X-WR-TIMEZONE:Europe/Oslo


BEGIN:VEVENT
UID:248fa65c224942c0b487183e93ebb2d6
URL:https://umbraco.naeringsforeningen.no/moeter/arkiv/tv-sending-31-mars/
ORGANIZER;CN=Ola Normann:MAILTO:ola.normann@markedspartner.no
DTSTAMP:20200331T070000Z
DTSTART:20200331T070000Z
DTEND:20200331T073000Z
LAST-MODIFIED:20221031T120416Z
SUMMARY:TV: Sending 31. mars
DESCRIPTION:Tirsdagens sending med gjestene Hanne Berentzen, Johan Helgø, Øyvind Mikalsen, Inger Tone Ødegård og Geir Arne Selvær.
X-ALT-DESC:Tirsdagens sending med gjestene Hanne Berentzen, Johan Helg&#248;, &#216;yvind Mikalsen, Inger Tone &#216;deg&#229;rd og Geir Arne Selv&#230;r.
LOCATION:Facebook Live
END:VEVENT


END:VCALENDAR



