
BEGIN:VCALENDAR
VERSION:2.0
PRODID:-//MarkedsPartner AS//Umbraco CMS//NO
TIMEZONE-ID:Europe/Oslo
X-WR-TIMEZONE:Europe/Oslo


BEGIN:VEVENT
UID:2329f79e254443d09e7e6e1afa45da5b
URL:https://umbraco.naeringsforeningen.no/moeter/arkiv/tv-sending-30-mars/
ORGANIZER;CN=Ola Normann:MAILTO:ola.normann@markedspartner.no
DTSTAMP:20200330T070000Z
DTSTART:20200330T070000Z
DTEND:20200330T073000Z
LAST-MODIFIED:20221031T120302Z
SUMMARY:TV: Sending 30. mars
DESCRIPTION:Daglig aktualitetssending og mandag får vi besøk av Atle Eide, Kristin Kragseth, Håkon Lund, Tor Arnesen og Frank Emil Moen.
X-ALT-DESC:Daglig aktualitetssending og mandag f&#229;r vi bes&#248;k av Atle Eide, Kristin Kragseth, H&#229;kon Lund, Tor Arnesen og Frank Emil Moen.
LOCATION:Facebook Live
END:VEVENT


END:VCALENDAR



