
BEGIN:VCALENDAR
VERSION:2.0
PRODID:-//MarkedsPartner AS//Umbraco CMS//NO
TIMEZONE-ID:Europe/Oslo
X-WR-TIMEZONE:Europe/Oslo


BEGIN:VEVENT
UID:7f25a27e55204624920a471a95cd1f01
URL:https://umbraco.naeringsforeningen.no/moeter/arkiv/tv-sending-30-april/
ORGANIZER;CN=Ola Normann:MAILTO:ola.normann@markedspartner.no
DTSTAMP:20200430T070000Z
DTSTART:20200430T070000Z
DTEND:20200430T073000Z
LAST-MODIFIED:20221031T120837Z
SUMMARY:TV: Sending 30. april
DESCRIPTION:Arne Roland har vært gjennom kriser før. En gang tre kriser på en gang for selskapet han ledet. Torsdag gir han råd under vår tv-sending.
X-ALT-DESC:Arne Roland har v&#230;rt gjennom kriser f&#248;r. En gang tre kriser p&#229; en gang for selskapet han ledet. Torsdag gir han r&#229;d under v&#229;r tv-sending.
LOCATION:Facebook Live
END:VEVENT


END:VCALENDAR



