
BEGIN:VCALENDAR
VERSION:2.0
PRODID:-//MarkedsPartner AS//Umbraco CMS//NO
TIMEZONE-ID:Europe/Oslo
X-WR-TIMEZONE:Europe/Oslo


BEGIN:VEVENT
UID:e522624e7f7949d29ee352cc50d73809
URL:https://umbraco.naeringsforeningen.no/moeter/arkiv/tv-sending-3-april/
ORGANIZER;CN=Ola Normann:MAILTO:ola.normann@markedspartner.no
DTSTAMP:20200403T070000Z
DTSTART:20200403T070000Z
DTEND:20200403T073000Z
LAST-MODIFIED:20221031T120445Z
SUMMARY:TV: Sending 3. april
DESCRIPTION:Eimund Nygaard, Bjørn Vidar Lerøen, Ulf Rosenberg, Anne Lise Ådnøy og Kjell Reianes kommer i studio fredag.
X-ALT-DESC:Eimund Nygaard, Bj&#248;rn Vidar Ler&#248;en, Ulf Rosenberg, Anne Lise &#197;dn&#248;y og Kjell Reianes kommer i studio fredag.
LOCATION:Facebook Live
END:VEVENT


END:VCALENDAR



