
BEGIN:VCALENDAR
VERSION:2.0
PRODID:-//MarkedsPartner AS//Umbraco CMS//NO
TIMEZONE-ID:Europe/Oslo
X-WR-TIMEZONE:Europe/Oslo


BEGIN:VEVENT
UID:3261ccdb34594e188732809aa9d1ae33
URL:https://umbraco.naeringsforeningen.no/moeter/arkiv/tv-sending-291021/
ORGANIZER;CN=Ola Normann:MAILTO:ola.normann@markedspartner.no
DTSTAMP:20211029T070000Z
DTSTART:20211029T070000Z
DTEND:20211029T073000Z
LAST-MODIFIED:20221031T122801Z
SUMMARY:Næringsforeningen TV: Helgemagasin
DESCRIPTION:Oppstartsselskapet Nivel har utviklet et verktøy som skal få kontroll på el-sparkesyklene i byen. Gründer Harald Sævareid kommer i studio. Det gjør også Trygve Petter Nilsen i Stavanger kommune, som skal forklare hvordan kommunen forholder seg til bruken av el-sykler. Rogaland Teater er i endelig i full gang igjen etter koronarestriksjoner og streik. Vi har møtt teatersjef Glen Andre Kaada. Og som vanlig tar Harald Minge og Tormod Andreassen for seg uka som gikk.
X-ALT-DESC:Oppstartsselskapet Nivel har utviklet et verkt&#248;y som skal f&#229; kontroll p&#229; el-sparkesyklene i byen. Gr&#252;nder Harald S&#230;vareid kommer i studio. Det gj&#248;r ogs&#229; Trygve Petter Nilsen i Stavanger kommune, som skal forklare hvordan kommunen forholder seg til bruken av el-sykler. Rogaland Teater er i endelig i full gang igjen etter koronarestriksjoner og streik. Vi har m&#248;tt teatersjef Glen Andre Kaada. Og som vanlig tar Harald Minge og Tormod Andreassen for seg uka som gikk.
LOCATION:Facebook Live
END:VEVENT


END:VCALENDAR



