
BEGIN:VCALENDAR
VERSION:2.0
PRODID:-//MarkedsPartner AS//Umbraco CMS//NO
TIMEZONE-ID:Europe/Oslo
X-WR-TIMEZONE:Europe/Oslo


BEGIN:VEVENT
UID:0bb1a6e05b994c7ebe26a2dfc67a2be8
URL:https://umbraco.naeringsforeningen.no/moeter/arkiv/tv-sending-29-mai/
ORGANIZER;CN=Ola Normann:MAILTO:ola.normann@markedspartner.no
DTSTAMP:20200529T070000Z
DTSTART:20200529T070000Z
DTEND:20200529T073000Z
LAST-MODIFIED:20221031T121204Z
SUMMARY:TV: Sending 29. mai
DESCRIPTION:I regionen står flere bedrifter klar med det nye, innovative og bærekraftige løsninger. Vi får besøk av Egil Vigdel fra Agri-e og Brage W. Johansen som er tett på flere selskaper.
X-ALT-DESC:I regionen st&#229;r flere bedrifter klar med det nye, innovative og b&#230;rekraftige l&#248;sninger. Vi f&#229;r bes&#248;k av Egil Vigdel fra Agri-e og Brage W. Johansen som er tett p&#229; flere selskaper.
LOCATION:Facebook Live
END:VEVENT


END:VCALENDAR



