
BEGIN:VCALENDAR
VERSION:2.0
PRODID:-//MarkedsPartner AS//Umbraco CMS//NO
TIMEZONE-ID:Europe/Oslo
X-WR-TIMEZONE:Europe/Oslo


BEGIN:VEVENT
UID:0e64a454abba4d68afcdd33ec47c88cf
URL:https://umbraco.naeringsforeningen.no/moeter/arkiv/tv-sending-29-april/
ORGANIZER;CN=Ola Normann:MAILTO:ola.normann@markedspartner.no
DTSTAMP:20200429T070000Z
DTSTART:20200429T070000Z
DTEND:20200429T073000Z
LAST-MODIFIED:20221031T120834Z
SUMMARY:TV: Sending 29. april
DESCRIPTION:Onsdagens sending får et maritimt preg. Hva skjer med cruisetrafikk og annen skipsfart i disse tider?
X-ALT-DESC:Onsdagens sending f&#229;r et maritimt preg. Hva skjer med cruisetrafikk og annen skipsfart i disse tider?
LOCATION:Facebook Live
END:VEVENT


END:VCALENDAR



