
BEGIN:VCALENDAR
VERSION:2.0
PRODID:-//MarkedsPartner AS//Umbraco CMS//NO
TIMEZONE-ID:Europe/Oslo
X-WR-TIMEZONE:Europe/Oslo


BEGIN:VEVENT
UID:213659c6ad1442928d2736eee0566a60
URL:https://umbraco.naeringsforeningen.no/moeter/arkiv/tv-sending-280122/
ORGANIZER;CN=Ola Normann:MAILTO:ola.normann@markedspartner.no
DTSTAMP:20220128T080000Z
DTSTART:20220128T080000Z
DTEND:20220128T082000Z
LAST-MODIFIED:20221031T123048Z
SUMMARY:TV: Go´morgen næringslivet
DESCRIPTION:Ine Oftedahl fra DNB avslører i denne sendingen hvordan vi har endret handlevanene våre i løpet av pandemien. I tillegg kommer Espen Knoph og forteller om nye Utopia. Programledere er Elianne Strøm Topstad og Ståle Frafjord.
X-ALT-DESC:Ine Oftedahl fra DNB avsl&#248;rer i denne sendingen hvordan vi har endret handlevanene v&#229;re i l&#248;pet av pandemien. I tillegg kommer Espen Knoph og forteller om nye Utopia. Programledere er Elianne Str&#248;m Topstad og St&#229;le Frafjord.
LOCATION:Facebook Live/Linkedin Live
END:VEVENT


END:VCALENDAR



