
BEGIN:VCALENDAR
VERSION:2.0
PRODID:-//MarkedsPartner AS//Umbraco CMS//NO
TIMEZONE-ID:Europe/Oslo
X-WR-TIMEZONE:Europe/Oslo


BEGIN:VEVENT
UID:f09a02374e3b4086919876fc8c74fe21
URL:https://umbraco.naeringsforeningen.no/moeter/arkiv/tv-sending-28-april/
ORGANIZER;CN=Ola Normann:MAILTO:ola.normann@markedspartner.no
DTSTAMP:20200428T070000Z
DTSTART:20200428T070000Z
DTEND:20200428T073000Z
LAST-MODIFIED:20221031T120743Z
SUMMARY:TV: Sending 28. april
DESCRIPTION:Tirsdag får vi besøk av Maren Skjelde, Jan Henrik Jelsa, Geir Austigard og Gottfried Heinzerling.
X-ALT-DESC:Tirsdag f&#229;r vi bes&#248;k av Maren Skjelde, Jan Henrik Jelsa, Geir Austigard og Gottfried Heinzerling.
LOCATION:Facebook Live
END:VEVENT


END:VCALENDAR



