
BEGIN:VCALENDAR
VERSION:2.0
PRODID:-//MarkedsPartner AS//Umbraco CMS//NO
TIMEZONE-ID:Europe/Oslo
X-WR-TIMEZONE:Europe/Oslo


BEGIN:VEVENT
UID:74bc08dc89264cf789058134f1ab35ba
URL:https://umbraco.naeringsforeningen.no/moeter/arkiv/tv-sending-27-mars/
ORGANIZER;CN=Ola Normann:MAILTO:ola.normann@markedspartner.no
DTSTAMP:20200327T080000Z
DTSTART:20200327T080000Z
DTEND:20200327T083000Z
LAST-MODIFIED:20221031T120249Z
SUMMARY:TV: Sending 27. mars
DESCRIPTION:Ny sending med gjestene Leif Johan Sevland, Eirin K. Sund, Merethe P. Haftorsen og Kyrre Knudsen.
X-ALT-DESC:Ny sending med gjestene Leif Johan Sevland, Eirin K. Sund, Merethe P. Haftorsen og Kyrre Knudsen.
LOCATION:Facebook Live
END:VEVENT


END:VCALENDAR



